BEGIN:VCALENDAR
VERSION:2.0
PRODID:-//ChamberMaster//Event Calendar 2.0//EN
METHOD:PUBLISH
X-PUBLISHED-TTL:P3D
REFRESH-INTERVAL:P3D
CALSCALE:GREGORIAN
BEGIN:VEVENT
DTSTART:20190207T190000Z
DTEND:20190207T200000Z
X-MICROSOFT-CDO-ALLDAYEVENT:FALSE
SUMMARY:10 Warning Signs of Alzheimer's Disease
DESCRIPTION:Free one hour program that will help you understand the difference between normal aging and signs of Alzheimer's Disease.
X-ALT-DESC;FMTTYPE=text/html:Free one hour program that will help you understand the difference between normal aging and signs of Alzheimer&#39\;s Disease.
LOCATION:525 Gardens Court\, Federalsburg\, MD
UID:e.1366.2073
SEQUENCE:3
DTSTAMP:20260424T130459Z
URL:https://www.carolinechamber.org/events/details/10-warning-signs-of-alzheimer-s-disease-2073
END:VEVENT

END:VCALENDAR
