BEGIN:VCALENDAR
VERSION:2.0
PRODID:-//ChamberMaster//Event Calendar 2.0//EN
METHOD:PUBLISH
X-PUBLISHED-TTL:P3D
REFRESH-INTERVAL:P3D
CALSCALE:GREGORIAN
BEGIN:VEVENT
DTSTART:20190205T190000Z
DTEND:20190205T200000Z
X-MICROSOFT-CDO-ALLDAYEVENT:FALSE
SUMMARY:10 Warning Signs of Dementia
DESCRIPTION:Free education program open to the public. Come learn about which signs of aging are normal\, and which ones may indicate something more serious.
X-ALT-DESC;FMTTYPE=text/html:Free education program open to the public. Come learn about which signs of aging are normal\, and which ones may indicate something more serious.
LOCATION:500 High Street\, Denton\, MD
UID:e.1366.2072
SEQUENCE:3
DTSTAMP:20260424T125739Z
URL:https://www.carolinechamber.org/events/details/10-warning-signs-of-dementia-2072
END:VEVENT

END:VCALENDAR
