BEGIN:VCALENDAR
VERSION:2.0
PRODID:-//ChamberMaster//Event Calendar 2.0//EN
METHOD:PUBLISH
X-PUBLISHED-TTL:P3D
REFRESH-INTERVAL:P3D
CALSCALE:GREGORIAN
BEGIN:VEVENT
DTSTART:20191208T150000Z
DTEND:20191208T200000Z
X-MICROSOFT-CDO-ALLDAYEVENT:FALSE
SUMMARY:19th Annual Christmas in Caroline
DESCRIPTION:Crafts\, collectibles & gift merchandise. Country store\, fresh arrangements\, wreaths\, grave blankets\, and swags.Special candy cane game. Winter wonderland game wheel. Children's make-it take-it crafts workshop\, photos with Santa and Pet Christmas photos. Silent Auction both days\, festive Christmas Music & great food.
X-ALT-DESC;FMTTYPE=text/html:<span style="color: rgb(51\, 51\, 51)\; font-family: sans-serif\, Arial\, Verdana\, &quot\;Trebuchet MS&quot\;\; font-size: 13px\; background-color: rgb(255\, 255\, 255)\;">Crafts\, collectibles &amp\; gift merchandise. Country store\, fresh arrangements\, wreaths\, grave blankets\, and swags.Special candy cane game. Winter wonderland game wheel. Children&#39\;s make-it take-it crafts workshop\, photos with Santa and Pet Christmas photos. Silent Auction both days\, festive Christmas Music &amp\; great food.</span>
LOCATION:Caroline County 4-H Park Detour Road\, Denton
UID:e.1366.3573
SEQUENCE:3
DTSTAMP:20260423T233501Z
URL:https://www.carolinechamber.org/events/details/19th-annual-christmas-in-caroline-3573
END:VEVENT

END:VCALENDAR
