BEGIN:VCALENDAR
VERSION:2.0
PRODID:-//ChamberMaster//Event Calendar 2.0//EN
METHOD:PUBLISH
X-PUBLISHED-TTL:P3D
REFRESH-INTERVAL:P3D
CALSCALE:GREGORIAN
BEGIN:VEVENT
DTSTART:20190615T150000Z
DTEND:20190615T190000Z
X-MICROSOFT-CDO-ALLDAYEVENT:FALSE
SUMMARY:Adkins Arboretum’s Medieval Forest Faire is Sat.\, June 15
DESCRIPTION:Adkins Arboretum's Medieval Forest Faire is Sat.\, June 15 \n\n \n\nRevel in a day of forest fun when Adkins Arboretum celebrates its second annual Medieval Forest Faire from 11 a.m. to 3 p.m. on Sat.\, June 15. Inspired by legends and lore of the medieval period\, Forest Faire offers a wide variety of activities and entertainment for families in search of outdoor fun.\n\n \n\nAdventurers of all ages are invited to embark on a forest quest and search among the trees for the Green Man of the ancient Celts. Some of the many activities planned include building with wattle and daub\, guided foraging\, archery practice\, a labyrinth\, cooking pottage over a campfire\, medieval crafts and constructing "castles" with sections of tree stumps.\n\n \n\nMedieval ballads and madrigals will be performed throughout the day by Ampersand and the Allegro Women's Chorus. Fortunetelling and demonstrations by a local falconer will be ongoing\, and the festivities will close with sword dancing by the Sammati Dance Company of Caroline County. \n\n\n\nFairegoers are encouraged to wear Camelot-inspired costumes and to bring their cameras for photos with notable nobles. Unicorn rides by Snapdragon Stables and refreshments\, including ice cream by local Nice Farms Creamery\, will be available for purchase.
X-ALT-DESC;FMTTYPE=text/html:<strong><span style="color:black\;"><span style="font-family:calibri\,sans-serif\;"><span style="font-size:14pt\;">Adkins Arboretum&rsquo\;s Medieval Forest Faire is Sat.\, June 15</span></span></span></strong>&nbsp\;<br />\n&nbsp\;<br />\n<span style="font-family:calibri\,sans-serif\;">Revel in a day of forest fun when Adkins Arboretum celebrates its second annual Medieval Forest Faire from 11 a.m. to 3 p.m. on Sat.\, June 15. Inspired by legends and lore of the medieval period\, Forest Faire offers a wide variety of activities and entertainment for families in search of outdoor fun.</span><br />\n&nbsp\;<br />\n<span style="color:black\;"><span style="font-family:calibri\,sans-serif\;">Adventurers of all ages are invited to embark on a forest quest and search among the trees for the Green Man of the ancient Celts. Some of the many activities planned include building with wattle and daub\, guided foraging\, archery practice\, a labyrinth\, cooking pottage over a campfire\, medieval crafts and constructing &ldquo\;castles&rdquo\; with sections of tree stumps.</span></span><br />\n&nbsp\;<br />\n<span style="color:black\;"><span style="font-family:calibri\,sans-serif\;">Medieval ballads and madrigals will be performed throughout the day by Ampersand and the Allegro Women&rsquo\;s Chorus. Fortunetelling and demonstrations by a local falconer will be ongoing\, and the festivities will close with sword dancing by the Sammati Dance Company of Caroline County.&nbsp\;<br />\n<br />\nFairegoers are encouraged to wear Camelot-inspired costumes and to bring their cameras for photos with notable nobles. Unicorn rides by Snapdragon Stables and refreshments\, including ice cream by local Nice Farms Creamery\, will be available for purchase.</span></span>\n<div>&nbsp\;</div>\n
LOCATION:
UID:e.1366.2269
SEQUENCE:3
DTSTAMP:20260419T145959Z
URL:https://www.carolinechamber.org/events/details/adkins-arboretum-s-medieval-forest-faire-is-sat-june-15-2269
END:VEVENT

END:VCALENDAR
