BEGIN:VCALENDAR
VERSION:2.0
PRODID:-//ChamberMaster//Event Calendar 2.0//EN
METHOD:PUBLISH
X-PUBLISHED-TTL:P3D
REFRESH-INTERVAL:P3D
CALSCALE:GREGORIAN
BEGIN:VEVENT
DTSTART:20180712T210000Z
DTEND:20180712T230000Z
X-MICROSOFT-CDO-ALLDAYEVENT:FALSE
SUMMARY:After Hours Networking - Hosted by the Caroline Young Professionals
DESCRIPTION:The Caroline Professionals Network is dedicated to bringing together motivated\, ambitious and energetic employees of ALL ages and from ALL sectors of the working world for fun\, social events that help cultivate personal and professional development.\n\n\n\nJuly's Mixer is held at Harry's on the Green in Denton from 5-7pm! \n\n\n\nDoes this sound like you?\n\nBring a friend and come see what the buzz is all about!\n\n\n\nWant to sponsor or host an event like this one? This is a great opportunity to show your business off & what you do! Do you have a niche? We are still looking for short presentations & interesting topics for each event.\n\n\n\nCall us today and get on the schedule\, we're almost full for the year!
X-ALT-DESC;FMTTYPE=text/html:<div style="text-align: center\;"><span style="font-size: 16px\;"><span style="font-family: verdana\;">The Caroline Professionals Network is dedicated to bringing together motivated\, ambitious and energetic employees of ALL ages and from ALL sectors of the working world for fun\, social events that help cultivate personal and professional development.<br />\n<br />\nJuly&#39\;s Mixer is held at Harry&#39\;s on the Green in Denton from 5-7pm! </span></span><br />\n<br />\n<span style="font-size: 16px\;"><span style="font-family: verdana\;">Does this sound like you?<br />\nBring a friend and come see what the buzz is all about!<br />\n<br />\nWant to sponsor or host an event like this one? This is a great opportunity to show your business off &amp\; what you do! Do you have a niche? We are still looking for short presentations &amp\; interesting topics for each event.<br />\n<br />\nCall us today and get on the schedule\, we&#39\;re almost full for the year!&nbsp\;</span></span></div>\n
LOCATION:Harry's on the Green 4 South First Street Denton Maryland
UID:e.1366.2004
SEQUENCE:3
DTSTAMP:20260424T221751Z
URL:https://www.carolinechamber.org/events/details/after-hours-networking-hosted-by-the-caroline-young-professionals-2004
END:VEVENT

END:VCALENDAR
