BEGIN:VCALENDAR
VERSION:2.0
PRODID:-//ChamberMaster//Event Calendar 2.0//EN
METHOD:PUBLISH
X-PUBLISHED-TTL:P3D
REFRESH-INTERVAL:P3D
CALSCALE:GREGORIAN
BEGIN:VEVENT
DTSTART:20190516T210000Z
DTEND:20190516T230000Z
X-MICROSOFT-CDO-ALLDAYEVENT:FALSE
SUMMARY:After Hours with the Caroline Chamber event sponsored by the Pritchett Group at Merrill Lynch
DESCRIPTION:You are invited to a Caroline Chamber of Commerce event sponsored by the Pritchett Group at Merrill Lynch
X-ALT-DESC;FMTTYPE=text/html:You are invited to a Caroline Chamber of Commerce event sponsored by the Pritchett Group at Merrill Lynch
LOCATION:Harry's On The Green 4 1st Street\, Denton\, MD 21629
UID:e.1366.2279
SEQUENCE:3
DTSTAMP:20260419T161413Z
URL:https://www.carolinechamber.org/events/details/after-hours-with-the-caroline-chamber-event-sponsored-by-the-pritchett-group-at-merrill-lynch-2279
END:VEVENT

END:VCALENDAR
