BEGIN:VCALENDAR
VERSION:2.0
PRODID:-//ChamberMaster//Event Calendar 2.0//EN
METHOD:PUBLISH
X-PUBLISHED-TTL:P3D
REFRESH-INTERVAL:P3D
CALSCALE:GREGORIAN
BEGIN:VEVENT
DTSTART:20190526T160000Z
DTEND:20190526T180000Z
X-MICROSOFT-CDO-ALLDAYEVENT:FALSE
SUMMARY:Behind the Vines Tour
DESCRIPTION:Join Harvest Ridge Winery for their exclusive Behind the Vines Tour. Experience the winery from grape to bottle as you are led through the winery and vineyard on a two-hour tour and tasting. You will sample eight different wines at the VIP bar and snack on light refreshments. The tour is $20 per person - including the tour and tasting. Age 21+ event. Tickets are limited to 14 people\, so reserve your spot today!
X-ALT-DESC;FMTTYPE=text/html:<span style="color: rgb(32\, 32\, 32)\; font-family: Arial\, sans-serif\; font-size: 15.3333px\; background-color: rgb(255\, 255\, 255)\;">Join Harvest Ridge Winery for their exclusive&nbsp\;</span><em style="color: rgb(32\, 32\, 32)\; font-family: Arial\, sans-serif\; font-size: 15.3333px\; background-color: rgb(255\, 255\, 255)\;">Behind&nbsp\;the&nbsp\;Vines&nbsp\;Tour</em><span style="color: rgb(32\, 32\, 32)\; font-family: Arial\, sans-serif\; font-size: 15.3333px\; background-color: rgb(255\, 255\, 255)\;">. Experience the winery from grape to bottle as you are led through the winery and vineyard&nbsp\;on a two-hour tour and tasting. You will sample eight different wines at the VIP bar and snack on light refreshments. The tour is $20 per person - including the tour and tasting. Age 21+ event. Tickets are limited to 14 people\, so reserve your spot today!</span>
LOCATION:Harvest Ridge Winery Harvest Ridge Winery\, 447 Westville Road\, Marydel
UID:e.1366.2276
SEQUENCE:3
DTSTAMP:20260419T160851Z
URL:https://www.carolinechamber.org/events/details/behind-the-vines-tour-2276
END:VEVENT

END:VCALENDAR
