BEGIN:VCALENDAR
VERSION:2.0
PRODID:-//ChamberMaster//Event Calendar 2.0//EN
METHOD:PUBLISH
X-PUBLISHED-TTL:P3D
REFRESH-INTERVAL:P3D
CALSCALE:GREGORIAN
BEGIN:VEVENT
DTSTART:20170518T190000Z
DTEND:20170518T210000Z
X-MICROSOFT-CDO-ALLDAYEVENT:FALSE
SUMMARY:Benson & Mangold Ribbon Cutting & Open House
DESCRIPTION:Join us as we welcome Benson & Mangold to Downtown Denton!\n\nOpen house starts at 3:00pm and the Ribbon Cutting is at 4:30pm!
X-ALT-DESC;FMTTYPE=text/html:Join us as we welcome Benson &amp\; Mangold&nbsp\;to Downtown Denton!<br />\nOpen house starts at 3:00pm&nbsp\;and the Ribbon Cutting is at 4:30pm!&nbsp\;
LOCATION:110 Market Street Denton\, MD 21629
UID:e.1366.810
SEQUENCE:3
DTSTAMP:20260425T184648Z
URL:https://www.carolinechamber.org/events/details/benson-mangold-ribbon-cutting-open-house-810
END:VEVENT

END:VCALENDAR
