BEGIN:VCALENDAR
VERSION:2.0
PRODID:-//ChamberMaster//Event Calendar 2.0//EN
METHOD:PUBLISH
X-PUBLISHED-TTL:P3D
REFRESH-INTERVAL:P3D
CALSCALE:GREGORIAN
BEGIN:VEVENT
DTSTART:20210222T230000Z
DTEND:20210223T020000Z
X-MICROSOFT-CDO-ALLDAYEVENT:FALSE
SUMMARY:Bowling for a Cause
DESCRIPTION:Put your team together and join us for two hours of unlimited bowling\, shoes\, music\, food\, 50/50 raffle\, and a lot fun! In order to follow COVID-19 protocols\, we are asking that participants register as a group of six\, we are not able to take registrations for individuals. Register online at www.ymcachesapeake.org/programs/family-events
X-ALT-DESC;FMTTYPE=text/html:Put your team together and join us for two hours of unlimited bowling\, shoes\, music\, food\, 50/50 raffle\, and a lot fun! In order to follow COVID-19 protocols\, we are asking that participants register as a group of six\, we are not able to take registrations for individuals. Register online at www.ymcachesapeake.org/programs/family-events
LOCATION:EASTON BOWLING CENTER 101 Marlboro Ave. Easton\, MD 21601
UID:e.1366.3719
SEQUENCE:3
DTSTAMP:20260421T020053Z
URL:https://www.carolinechamber.org/events/details/bowling-for-a-cause-3719
END:VEVENT

END:VCALENDAR
