BEGIN:VCALENDAR
VERSION:2.0
PRODID:-//ChamberMaster//Event Calendar 2.0//EN
METHOD:PUBLISH
X-PUBLISHED-TTL:P3D
REFRESH-INTERVAL:P3D
CALSCALE:GREGORIAN
BEGIN:VEVENT
DTSTART:20161210T220000Z
DTEND:20161211T010000Z
X-MICROSOFT-CDO-ALLDAYEVENT:FALSE
SUMMARY:Candlelit Caroling Celebration at Adkins Arboretum
DESCRIPTION:Ring in the holiday season with music\, light and merriment! Enjoy live music by Nevin Dawson and Dovetail in the gallery\, hors d'oevres\, a cash wine bar and docent-led candlelit walks along Blockston Branch. Sing carols and roast marshmallows over a roaring bonfire\, view the winter sky with Delmarva Stargazers\, and top off the evening with a winter hayride around the meadows with a stop at the Funshine Garden for hot cider and tree decorating!
X-ALT-DESC;FMTTYPE=text/html:Ring in the holiday season with music\, light and merriment! Enjoy live music by Nevin Dawson and Dovetail in the gallery\, hors d&#39\;oevres\, a cash wine bar and docent-led candlelit walks along Blockston Branch. Sing carols and roast marshmallows over a roaring bonfire\, view the winter sky with Delmarva Stargazers\, and top off the evening with a winter hayride around the meadows with a stop at the Funshine Garden for hot cider and tree decorating!&nbsp\;
LOCATION:Adkins Arboretum 12610 Eveland Road Ridgely\, MD 21660
UID:e.1366.642
SEQUENCE:3
DTSTAMP:20260426T021420Z
URL:https://www.carolinechamber.org/events/details/candlelit-caroling-celebration-at-adkins-arboretum-642
END:VEVENT

END:VCALENDAR
