BEGIN:VCALENDAR
VERSION:2.0
PRODID:-//ChamberMaster//Event Calendar 2.0//EN
METHOD:PUBLISH
X-PUBLISHED-TTL:P3D
REFRESH-INTERVAL:P3D
CALSCALE:GREGORIAN
BEGIN:VEVENT
DTSTART:20190914T130000Z
DTEND:20190914T150000Z
X-MICROSOFT-CDO-ALLDAYEVENT:FALSE
SUMMARY:Caroline Center\, Inc. 5K Run\, Ramble & Roll
DESCRIPTION:Everyone is Welcome to Run\, Trot\, Walk or Wheel in the annual Fund Raiser for Caroline Center\, Inc. to benefit adults with disabilities.
X-ALT-DESC;FMTTYPE=text/html:Everyone is Welcome to Run\, Trot\, Walk or Wheel in the annual Fund Raiser for Caroline Center\, Inc. to benefit adults with disabilities.
LOCATION:Martin Sutton Memorial Park 302 W\, 4th Street Ridgely\, MD 21660
UID:e.1366.2425
SEQUENCE:3
DTSTAMP:20260419T102557Z
URL:https://www.carolinechamber.org/events/details/caroline-center-inc-5k-run-ramble-roll-2425
END:VEVENT

END:VCALENDAR
