BEGIN:VCALENDAR
VERSION:2.0
PRODID:-//ChamberMaster//Event Calendar 2.0//EN
METHOD:PUBLISH
X-PUBLISHED-TTL:P3D
REFRESH-INTERVAL:P3D
CALSCALE:GREGORIAN
BEGIN:VEVENT
DTSTART:20220805T170000Z
DTEND:20220805T200000Z
X-MICROSOFT-CDO-ALLDAYEVENT:FALSE
SUMMARY:Caroline Family Fun Fest
DESCRIPTION:Join us for our 12th Annual Family Fun Fest on Friday\, August 5\, 2022 from 1pm to 4pm at the corner of 3rd Street and Market St in Denton\, MD. This is a free fun event for the entire family! There will be games\, music\, refreshments\, activities for the kids\, crafts\, moon bounce\, fun photos\, a clown\, and more!! Transportation available at Laurel Grove Apts Federalsburg\, MD\, Kinnamon's Gas Station Greensobro\, MD\, & Walker's Store Marydel\, MD.
X-ALT-DESC;FMTTYPE=text/html:Join us for our 12th Annual Family Fun Fest on Friday\, August 5\, 2022 from 1pm to 4pm at the corner of 3rd Street and Market St in Denton\, MD. This is a free fun event for the entire family! There will be games\, music\, refreshments\, activities for the kids\, crafts\, moon bounce\, fun photos\, a clown\, and more!! Transportation available at Laurel Grove Apts Federalsburg\, MD\, Kinnamon&#39\;s Gas Station Greensobro\, MD\, &amp\; Walker&#39\;s Store Marydel\, MD.
LOCATION:At the corner of Market and 3rd Street in Denton\, MD across from the 300 Market St Social Services location
UID:e.1366.3946
SEQUENCE:3
DTSTAMP:20260419T230239Z
URL:https://www.carolinechamber.org/events/details/caroline-family-fun-fest-3946
END:VEVENT

END:VCALENDAR
