BEGIN:VCALENDAR
VERSION:2.0
PRODID:-//ChamberMaster//Event Calendar 2.0//EN
METHOD:PUBLISH
X-PUBLISHED-TTL:P3D
REFRESH-INTERVAL:P3D
CALSCALE:GREGORIAN
BEGIN:VEVENT
DTSTART:20171109T220000Z
DTEND:20171110T000000Z
X-MICROSOFT-CDO-ALLDAYEVENT:FALSE
SUMMARY:Caroline Professionals : After Hours Mixer at Faulkner Branch
DESCRIPTION:This monthly after hours event is an informal opportunity to get better acquainted with the business members and enterprising young professionals in our county. This event is open to Anyone and ALL Chamber members are encouraged to attend.
X-ALT-DESC;FMTTYPE=text/html:<span style="font-size:14px\;"><span style="font-family:tahoma\;"><span style="color: rgb(0\, 0\, 0)\;">This monthly after hours event is an informal opportunity to get better acquainted&nbsp\;with&nbsp\;the business members and&nbsp\;enterprising young professionals in our county. This event is open to <b><u>Anyone</u></b>&nbsp\;and ALL</span><span style="color: rgb(0\, 0\, 0)\;">&nbsp\;Chamber members are encouraged to attend.</span></span></span>
LOCATION:Faulkner Branch Cidery 4822 Preston Rd Federalsburg\, MD 21632
UID:e.1366.679
SEQUENCE:3
DTSTAMP:20260425T102245Z
URL:https://www.carolinechamber.org/events/details/caroline-professionals-after-hours-mixer-at-faulkner-branch-679
END:VEVENT

END:VCALENDAR
