BEGIN:VCALENDAR
VERSION:2.0
PRODID:-//ChamberMaster//Event Calendar 2.0//EN
METHOD:PUBLISH
X-PUBLISHED-TTL:P3D
REFRESH-INTERVAL:P3D
CALSCALE:GREGORIAN
BEGIN:VEVENT
DTSTART:20161109T130000Z
DTEND:20161109T150000Z
X-MICROSOFT-CDO-ALLDAYEVENT:FALSE
SUMMARY:Chamber Breakfast and Personality Assessment Presentation
DESCRIPTION:Using DiSC and Other Profiles to Know Yourself and Others Better\n\n\n\nJoin us for breakfast\, networking and a presentation of personality profiles.  Consultant Harvey Wigder of Fulcrum Transitions will give a presentation on the DiSC and other personality assessments and how you can help build better relationships on the job by understanding your style and the style of those you work with.\n\n\n\n To take a DiSC personal assessment  click here and select:\n\n Everything DiSC Workplace - View Results Instantly\n\n\n\nDiSC\, our featured profile\, is fun to use\, easy to understand and is probably the most frequently used profile in corporate America.   DiSC gives individuals insight into their own style and helps teams understand the value of respecting differences and achieving a balance of styles for top performance.   The program will start with an interactive exercise that will give insight into why this profile is so popular.\n\n \n\nOur presenter is Harvey Wigder\,  Chair of the Eastern Shore Vistage Group and President of Fulcrum Transitions\, a leadership development consulting firm.   His career includes executive positions in fortune 500 corporations and 30 years working with private companies to help them recruit and develop top executives.  He is certified in DiSC and other profiles including Birkman and the Leadership Circle.
X-ALT-DESC;FMTTYPE=text/html:<span style="font-size:16px\;"><span style="font-family:arial\;"><strong>Using DiSC and Other Profiles to Know Yourself and Others Better</strong></span></span><br />\n<br />\n<span style="font-size:12px\;"><span style="font-family:arial\;"><span style="font-size:14px\;">Join us for breakfast\, networking and a presentation of personality profiles. &nbsp\;Consultant Harvey Wigder of Fulcrum Transitions will give a presentation on the DiSC and other personality assessments and how you can&nbsp\;</span><span style="line-height: 20px\;"><span style="font-size:14px\;">help build better relationships on the job by understanding your style and the style of those you work with.</span><br />\n<br />\n<em>&nbsp\;To take a DiSC personal assessment &nbsp\;<a href="http://www.thediscpersonalitytest.com/?view=Assessments_disc">click here</a> and select</em>:<br />\n&nbsp\;</span></span></span><a class="ProductTitle" href="http://www.thediscpersonalitytest.com/?pn=Everything+DiSC+Workplace+%2D+View+Results+Instantly&amp\;p=731&amp\;c=48" style="margin: 0px\; padding: 0px\; box-sizing: border-box\; font-size: 16px\; font-weight: bold\; font-family: Arial\, 'Helvetica Neue'\, Helvetica\, sans-serif\; color: rgb(30\, 155\, 206) !important\; background-color: rgb(255\, 255\, 255)\;" target="_parent">Everything DiSC Workplace - View Results Instantly</a><br style="margin: 0px\; padding: 0px\; box-sizing: border-box\; color: rgb(0\, 101\, 139)\; font-family: Arial\, 'Helvetica Neue'\, Helvetica\, sans-serif\; font-size: 12px\; line-height: 17.1429px\; background-color: rgb(255\, 255\, 255)\;" />\n<br />\n<span style="font-size:small\;"><span style="font-family:arial\;"><span style="color:#444444\;"><span style="background-image:initial\;background-attachment:initial\;background-size:initial\;background-origin:initial\;background-clip:initial\;background-position:initial\;background-repeat:initial\;"><span style="font-family:arial\,sans-serif\;"><span style="font-size:9pt\;">DiSC\, our featured profile\, is fun to use\, easy to understand and is probably the most frequently used profile in corporate America.&nbsp\;&nbsp\; DiSC gives individuals insight into their own style and helps teams understand the value of respecting differences and achieving a balance of styles for top performance.&nbsp\; &nbsp\;The program will start with an interactive exercise that will give insight into why this profile is so popular.</span></span></span></span></span></span><br />\n&nbsp\;<br />\n<span style="font-size:small\;"><span style="font-family:arial\;"><span style="color:#444444\;"><span style="background-image:initial\;background-attachment:initial\;background-size:initial\;background-origin:initial\;background-clip:initial\;background-position:initial\;background-repeat:initial\;"><span style="font-family:arial\,sans-serif\;"><span style="font-size:9pt\;">Our presenter is Harvey Wigder\,&nbsp\;&nbsp\;Chair of the&nbsp\;<a href="http://www.easternshorevg.com/" style="color:rgb(0\, 102\, 204)\;text-decoration:none\;outline:none\;" target="_blank" title="This external link will open in a new window"><span style="color:black\;"><span style="color:windowtext\;">Eastern Shore Vistage Group</span></span></a>&nbsp\;and President of&nbsp\;<a href="http://www.fulcrumtransitions.com/" style="color:rgb(0\, 102\, 204)\;text-decoration:none\;outline:none\;" target="_blank" title="This external link will open in a new window"><span style="color:black\;"><span style="color:windowtext\;">Fulcrum Transitions</span></span></a>\, a leadership development consulting firm.&nbsp\;&nbsp\; His career includes executive positions in fortune 500 corporations and 30 years working with private companies to help them recruit and develop top executives.&nbsp\; He is certified in DiSC and other profiles including Birkman and the Leadership Circle.</span></span></span></span></span></span><br />\n<br />\n<br />\n&nbsp\;
LOCATION:Chesapeake Culinary Center 512 Franklin Street Denton\, MD 21629
UID:e.1366.588
SEQUENCE:3
DTSTAMP:20260426T033416Z
URL:https://www.carolinechamber.org/events/details/chamber-breakfast-and-personality-assessment-presentation-588
END:VEVENT

END:VCALENDAR
