BEGIN:VCALENDAR
VERSION:2.0
PRODID:-//ChamberMaster//Event Calendar 2.0//EN
METHOD:PUBLISH
X-PUBLISHED-TTL:P3D
REFRESH-INTERVAL:P3D
CALSCALE:GREGORIAN
BEGIN:VEVENT
DTSTART:20161215T223000Z
DTEND:20161216T003000Z
X-MICROSOFT-CDO-ALLDAYEVENT:FALSE
SUMMARY:Chamber Holiday Mixer 2016
DESCRIPTION:Come out to the Towers Concrete Historical Museum located at Towers Concrete Products and join us for a networking event and party as we celebrate the holiday season with our friends and colleagues.\n\n\n\nSponsored by Caroline Nursing and Rehab and The Gables.
X-ALT-DESC;FMTTYPE=text/html:Come out to the Towers Concrete Historical Museum located at Towers Concrete Products and join us for a networking event and party as we celebrate the holiday season with our friends and colleagues.<br />\n<br />\nSponsored by Caroline Nursing and Rehab and The Gables. &nbsp\;&nbsp\;
LOCATION:Towers Historical Museum 26299 Sennett Road Denton\, MD 21629
UID:e.1366.632
SEQUENCE:3
DTSTAMP:20260426T021702Z
URL:https://www.carolinechamber.org/events/details/chamber-holiday-mixer-2016-632
END:VEVENT

END:VCALENDAR
