BEGIN:VCALENDAR
VERSION:2.0
PRODID:-//ChamberMaster//Event Calendar 2.0//EN
METHOD:PUBLISH
X-PUBLISHED-TTL:P3D
REFRESH-INTERVAL:P3D
CALSCALE:GREGORIAN
BEGIN:VEVENT
DTSTART;VALUE=DATE:20161101
DTEND;VALUE=DATE:20161102
TRANSP:TRANSPARENT
X-MICROSOFT-CDO-ALLDAYEVENT:TRUE
SUMMARY:Chamber Trip to Tuscany
DESCRIPTION:Join us on a trip to Tuscany!  See the beautiful countryside\, the statue of David\, and the architectural masterpieces.  Experience the culture\, art and cuisine!  Only $500 to reserve your place!\n\n\n\nClick here to register.  \n\n\n\nBooking code is B001994
X-ALT-DESC;FMTTYPE=text/html:Join us on a trip to Tuscany! &nbsp\;See the beautiful countryside\, the statue of David\, and the architectural masterpieces. &nbsp\;Experience the culture\, art and cuisine! &nbsp\;Only $500 to reserve your place!<br />\n<br />\n<strong><a href="http://www.centralholidayswest.com/booking">Click here to register.</a>&nbsp\;&nbsp\;<br />\n<br />\n<span style="font-size:16px\;">Booking code is B001994</span></strong><br />\n<br />\n&nbsp\;
LOCATION:We will leave from BWI Airport on November 1\, 2016 and return on November 9th. You can opt to stay in Rome for an additional two days. We will stay at the Hotel Villa Cappugi in Pistoia or a similar hotel.
UID:e.1366.563
SEQUENCE:3
DTSTAMP:20260426T033422Z
URL:https://www.carolinechamber.org/events/details/chamber-trip-to-tuscany-11-01-2016-563
END:VEVENT

END:VCALENDAR
