BEGIN:VCALENDAR
VERSION:2.0
PRODID:-//ChamberMaster//Event Calendar 2.0//EN
METHOD:PUBLISH
X-PUBLISHED-TTL:P3D
REFRESH-INTERVAL:P3D
CALSCALE:GREGORIAN
BEGIN:VEVENT
DTSTART:20190510T130000Z
DTEND:20190510T150000Z
X-MICROSOFT-CDO-ALLDAYEVENT:FALSE
SUMMARY:Choptank Cleaning Services & Property Maintenance\, LLC Ribbon Cutting Grand Opening
DESCRIPTION:Please join us for the Ribbon Cutting/Grand Opening of Choptank Cleaning Services & Property Maintenance\, LLC
X-ALT-DESC;FMTTYPE=text/html:Please join us for the Ribbon Cutting/Grand Opening of Choptank Cleaning Services &amp\; Property Maintenance\, LLC
LOCATION:7 N. 1st Street Denton\, MD 21629
UID:e.1366.2280
SEQUENCE:3
DTSTAMP:20260419T161423Z
URL:https://www.carolinechamber.org/events/details/choptank-cleaning-services-property-maintenance-llc-ribbon-cutting-grand-opening-2280
END:VEVENT

END:VCALENDAR
