BEGIN:VCALENDAR
VERSION:2.0
PRODID:-//ChamberMaster//Event Calendar 2.0//EN
METHOD:PUBLISH
X-PUBLISHED-TTL:P3D
REFRESH-INTERVAL:P3D
CALSCALE:GREGORIAN
BEGIN:VEVENT
DTSTART:20181215T000000Z
DTEND:20181215T010000Z
X-MICROSOFT-CDO-ALLDAYEVENT:FALSE
SUMMARY:Col Richardson High School Winter Concert
DESCRIPTION:
X-ALT-DESC;FMTTYPE=text/html:
LOCATION:COl Richardson High School Auditorium
UID:e.1366.2055
SEQUENCE:3
DTSTAMP:20260424T153430Z
URL:https://www.carolinechamber.org/events/details/col-richardson-high-school-winter-concert-2055
END:VEVENT

END:VCALENDAR
