BEGIN:VCALENDAR
VERSION:2.0
PRODID:-//ChamberMaster//Event Calendar 2.0//EN
METHOD:PUBLISH
X-PUBLISHED-TTL:P3D
REFRESH-INTERVAL:P3D
CALSCALE:GREGORIAN
BEGIN:VEVENT
DTSTART;VALUE=DATE:20181218
DTEND;VALUE=DATE:20181219
TRANSP:TRANSPARENT
X-MICROSOFT-CDO-ALLDAYEVENT:TRUE
SUMMARY:Col Richardson Middle School Holiday Band & Orchestra Concert
DESCRIPTION:
X-ALT-DESC;FMTTYPE=text/html:
LOCATION:Col Richardson Middle School Auditorium
UID:e.1366.2056
SEQUENCE:3
DTSTAMP:20260424T154237Z
URL:https://www.carolinechamber.org/events/details/col-richardson-middle-school-holiday-band-orchestra-concert-2056
END:VEVENT

END:VCALENDAR
