BEGIN:VCALENDAR
VERSION:2.0
PRODID:-//ChamberMaster//Event Calendar 2.0//EN
METHOD:PUBLISH
X-PUBLISHED-TTL:P3D
REFRESH-INTERVAL:P3D
CALSCALE:GREGORIAN
BEGIN:VEVENT
DTSTART:20180308T220000Z
DTEND:20180309T000000Z
X-MICROSOFT-CDO-ALLDAYEVENT:FALSE
SUMMARY:CPN After Hours Mixer
DESCRIPTION:The Caroline Professionals Network is dedicated to bringing together motivated\, ambitious and energetic employees of ALL ages and from ALL sectors of the working world for fun\, social events that help cultivate personal and professional development.\n\n\n\nDoes this sound like you?\n\nBring a friend and come see what the buzz is all about!\n\n\n\nWant to sponsor or host an event like this one?\n\nCall us and get on the schedule!
X-ALT-DESC;FMTTYPE=text/html:<div style="text-align: center\;"><span style="font-size:16px\;"><span style="font-family:verdana\;">The Caroline Professionals Network is dedicated to bringing together motivated\, ambitious and energetic employees of ALL ages and from ALL sectors of the working world for fun\, social events that help cultivate personal and professional development.</span></span></div>\n\n<div style="text-align: center\;"><br />\n<span style="font-size:16px\;"><span style="font-family:verdana\;">Does this sound like you?<br />\nBring a friend and come see what the buzz is all about!<br />\n<br />\nWant to sponsor or host an event like this one?<br />\nCall us and get on the schedule!</span></span></div>\n
LOCATION:42 Denton Plaza Denton\, MD
UID:e.1366.683
SEQUENCE:3
DTSTAMP:20260425T041109Z
URL:https://www.carolinechamber.org/events/details/cpn-after-hours-mixer-03-08-2018-683
END:VEVENT

END:VCALENDAR
