BEGIN:VCALENDAR
VERSION:2.0
PRODID:-//ChamberMaster//Event Calendar 2.0//EN
METHOD:PUBLISH
X-PUBLISHED-TTL:P3D
REFRESH-INTERVAL:P3D
CALSCALE:GREGORIAN
BEGIN:VEVENT
DTSTART:20180607T210000Z
DTEND:20180607T230000Z
X-MICROSOFT-CDO-ALLDAYEVENT:FALSE
SUMMARY:CPN After Hours Mixer : Shore United Bank
DESCRIPTION:Thank you to this month's\n\nCPN After-Hours Mixer sponsor\n\nShore United Bank!\n\nJoin us for FREE appetizers and networking\n\nat their Denton branch!\n\n\n\nThe Caroline Professionals Network is dedicated to bringing together motivated\, ambitious and energetic employees of ALL ages and from ALL sectors of the working world for fun\, social events that help cultivate personal and professional development.\n\n\n\nDoes your business wish to sponsor or host an event?\n\nContact us today to schedule it!
X-ALT-DESC;FMTTYPE=text/html:<div style="text-align: center\;"><span style="color: rgb(51\, 51\, 51)\; font-family: verdana\; font-size: 16px\; text-align: center\; background-color: rgb(255\, 255\, 255)\;">Thank you to this month's<br>\nCPN&nbsp\;</span><span style="color: rgb(51\, 51\, 51)\; font-family: verdana\; font-size: 16px\; text-align: center\; background-color: rgb(255\, 255\, 255)\;">After-Hours Mixer sponsor<br>\nShore United Bank!</span><br style="color: rgb(51\, 51\, 51)\; font-family: verdana\; font-size: 16px\; text-align: center\; background-color: rgb(255\, 255\, 255)\;">\n<span style="color: rgb(51\, 51\, 51)\; font-family: verdana\; font-size: 16px\; text-align: center\; background-color: rgb(255\, 255\, 255)\;">Join us for FREE appetizers and networking<br>\nat their&nbsp\;Denton branch</span><span style="color: rgb(51\, 51\, 51)\; font-family: verdana\; font-size: 16px\; text-align: center\; background-color: rgb(255\, 255\, 255)\;">!</span><br>\n<br>\n<span style="font-size: 16px\;"><span style="font-family: verdana\;">The Caroline Professionals Network is dedicated to bringing together motivated\, ambitious and energetic employees of ALL ages and from ALL sectors of the working world for fun\, social events that help cultivate personal and professional development.</span></span><br>\n<br>\n<span style="font-size:14px\;"><span style="font-family: verdana\;">Does your business wish to sponsor or host an event?<br>\nContact us today to schedule it!&nbsp\;</span></span></div>\n
LOCATION:Shore United Bank 850 S. 5th Avenue Denton\, MD
UID:e.1366.986
SEQUENCE:3
DTSTAMP:20260424T234103Z
URL:https://www.carolinechamber.org/events/details/cpn-after-hours-mixer-shore-united-bank-986
END:VEVENT

END:VCALENDAR
