BEGIN:VCALENDAR
VERSION:2.0
PRODID:-//ChamberMaster//Event Calendar 2.0//EN
METHOD:PUBLISH
X-PUBLISHED-TTL:P3D
REFRESH-INTERVAL:P3D
CALSCALE:GREGORIAN
BEGIN:VEVENT
DTSTART;VALUE=DATE:20191015
DTEND;VALUE=DATE:20191016
TRANSP:TRANSPARENT
X-MICROSOFT-CDO-ALLDAYEVENT:TRUE
SUMMARY:Dine for a Child at Pizza Empire in Denton
DESCRIPTION:Dine at Pizza Empire on Tuesday\, October 15\, and 10% of your meal will go towards CASA of Caroline. (Dine-in and carryout orders ONLY)\n\nCASA of Caroline works to ensure every abused and neglected child in Caroline County has a safe and stable home by giving them a voice in the system through a CASA (court appointed special advocate).  These CASA's are compassionate members of our community who give freely of their time.  Dine For A Child is one of the many ways CASA of Caroline reaches out to the community to find those people who want the fulfillment of giving their time to a child in need.
X-ALT-DESC;FMTTYPE=text/html:<span style="color: rgb(51\, 51\, 51)\; font-family: &quot\;times new roman&quot\;\, serif\; font-size: 16px\; background-color: rgb(255\, 255\, 255)\;">Dine at Pizza Empire on Tuesday\, October 15\, and 10% of your meal will go towards CASA of Caroline. (Dine-in and carryout orders ONLY)</span><br style="color: rgb(51\, 51\, 51)\; font-family: &quot\;times new roman&quot\;\, serif\; font-size: 16px\; background-color: rgb(255\, 255\, 255)\;" />\n<span style="color: rgb(51\, 51\, 51)\; font-family: &quot\;times new roman&quot\;\, serif\; font-size: 16px\; background-color: rgb(255\, 255\, 255)\;">CASA of Caroline works to ensure every abused and neglected child in Caroline County has a safe and stable home by giving them a voice in the system through a CASA (court appointed special advocate).&nbsp\; These CASA&rsquo\;s are compassionate members of our community who give freely of their time.&nbsp\; Dine For A Child is one of the many ways CASA of Caroline reaches out to the community to find those people who want the fulfillment of giving their time to a child in need.</span>
LOCATION:Pizza Empire 328 Market Street Denton\, MD 21629
UID:e.1366.2529
SEQUENCE:3
DTSTAMP:20260424T022528Z
URL:https://www.carolinechamber.org/events/details/dine-for-a-child-at-pizza-empire-in-denton-2529
END:VEVENT

END:VCALENDAR
