BEGIN:VCALENDAR
VERSION:2.0
PRODID:-//ChamberMaster//Event Calendar 2.0//EN
METHOD:PUBLISH
X-PUBLISHED-TTL:P3D
REFRESH-INTERVAL:P3D
CALSCALE:GREGORIAN
BEGIN:VEVENT
DTSTART:20190213T210000Z
DTEND:20190213T230000Z
X-MICROSOFT-CDO-ALLDAYEVENT:FALSE
SUMMARY:Edward Jones Investments - Ribbon Cutting
DESCRIPTION:Ann Jacobs\, Financial Advisor for Edward Jones Investments will be hosting a ribbon cutting ceremony to celebrate the opening of her Denton\, MD office.
X-ALT-DESC;FMTTYPE=text/html:Ann Jacobs\, Financial Advisor for Edward Jones Investments will be hosting a ribbon cutting ceremony to celebrate the opening of her Denton\, MD office.
LOCATION:105 Franklin Street Denton\, MD 21629
UID:e.1366.2074
SEQUENCE:3
DTSTAMP:20260424T125957Z
URL:https://www.carolinechamber.org/events/details/edward-jones-investments-ribbon-cutting-2074
END:VEVENT

END:VCALENDAR
