BEGIN:VCALENDAR
VERSION:2.0
PRODID:-//ChamberMaster//Event Calendar 2.0//EN
METHOD:PUBLISH
X-PUBLISHED-TTL:P3D
REFRESH-INTERVAL:P3D
CALSCALE:GREGORIAN
BEGIN:VEVENT
DTSTART:20190110T150000Z
DTEND:20190110T170000Z
X-MICROSOFT-CDO-ALLDAYEVENT:FALSE
SUMMARY:Elder Law Clinic
DESCRIPTION:Mid-Shore Pro Bono is offering a FREE Elder Law Clinic.\n\nOne-on one appointments with an attorney offer lower-income seniors personal\, confidential legal advice and assistance. Clients can discuss matters including wills\, powers of attorney\, advanced directives\, estate administration\, deeds\, Social Security\, landlord/tenant\, consumer debt\, abuse and neglect. \n\nClients needing additional assistance or documents drafted will need to complete an application for further services. To schedule an appointment please call 410-690-8128\n\nServices require financial eligibility.
X-ALT-DESC;FMTTYPE=text/html:Mid-Shore Pro Bono is offering a FREE Elder Law Clinic.<br />\nOne-on one appointments with an attorney offer lower-income seniors personal\, confidential legal advice and assistance. Clients can discuss matters including wills\, powers of attorney\, advanced directives\, estate administration\, deeds\, Social Security\, landlord/tenant\, consumer debt\, abuse and neglect.&nbsp\;<br />\nClients needing additional assistance or documents drafted will need to complete an application for further services. To schedule an appointment please call 410-690-8128<br />\nServices require financial eligibility.
LOCATION:Caroline County Senior Center 403 S. 7th Street\, Suite 127\, Denton\, MD 21629
UID:e.1366.2067
SEQUENCE:3
DTSTAMP:20260424T135548Z
URL:https://www.carolinechamber.org/events/details/elder-law-clinic-2067
END:VEVENT

END:VCALENDAR
