BEGIN:VCALENDAR
VERSION:2.0
PRODID:-//ChamberMaster//Event Calendar 2.0//EN
METHOD:PUBLISH
X-PUBLISHED-TTL:P3D
REFRESH-INTERVAL:P3D
CALSCALE:GREGORIAN
BEGIN:VEVENT
DTSTART:20191210T000000Z
DTEND:20191210T010000Z
X-MICROSOFT-CDO-ALLDAYEVENT:FALSE
SUMMARY:Federalsburg Christmas Parade
DESCRIPTION:Fun family event\, judging for trophies for many types of entry classifications. Line up starts at 6 pm at University Ave and Bloomingdale Ave. Santa Claus will visit the Federalsburg Heritage Museum after the parade.
X-ALT-DESC;FMTTYPE=text/html:Fun family event\, judging for trophies for many types of entry classifications. Line up starts at 6 pm at University Ave and Bloomingdale Ave. Santa Claus will visit the Federalsburg Heritage Museum after the parade.
LOCATION:Main Street\, Federalsburg
UID:e.1366.3575
SEQUENCE:3
DTSTAMP:20260423T233348Z
URL:https://www.carolinechamber.org/events/details/federalsburg-christmas-parade-3575
END:VEVENT

END:VCALENDAR
