BEGIN:VCALENDAR
VERSION:2.0
PRODID:-//ChamberMaster//Event Calendar 2.0//EN
METHOD:PUBLISH
X-PUBLISHED-TTL:P3D
REFRESH-INTERVAL:P3D
CALSCALE:GREGORIAN
BEGIN:VEVENT
DTSTART:20161117T170000Z
DTEND:20170107T210000Z
X-MICROSOFT-CDO-ALLDAYEVENT:FALSE
SUMMARY:Fiber Arts Bazaar and Holiday Quilt Exhibits
DESCRIPTION:Shop for hand crafted items by regional fiber artisans and see our holiday quilt display.
X-ALT-DESC;FMTTYPE=text/html:Shop for hand crafted items by regional fiber artisans and see our holiday quilt display.
LOCATION:7 N. Fourth St. Denton
UID:e.1366.636
SEQUENCE:3
DTSTAMP:20260426T004106Z
URL:https://www.carolinechamber.org/events/details/fiber-arts-bazaar-and-holiday-quilt-exhibits-636
END:VEVENT

END:VCALENDAR
