BEGIN:VCALENDAR
VERSION:2.0
PRODID:-//ChamberMaster//Event Calendar 2.0//EN
METHOD:PUBLISH
X-PUBLISHED-TTL:P3D
REFRESH-INTERVAL:P3D
CALSCALE:GREGORIAN
BEGIN:VEVENT
DTSTART:20190322T230000Z
DTEND:20190323T010000Z
X-MICROSOFT-CDO-ALLDAYEVENT:FALSE
SUMMARY:Friday Nites in Caroline : Eric Byrd Trio
DESCRIPTION:Rooted in swing and be-bop\, The Trio also embraces gospel and the blues as core elements of their expansive performance style. Pianists/vocalist Eric Byrd\, bassist Bhagwan Khalsa\, and drummer Alphonso Young\, Jr.\, travel the world as enthusiastic ambassadors of jazz.
X-ALT-DESC;FMTTYPE=text/html:<span style="color: rgb(103\, 103\, 103)\; font-family: Arial\, sans-serif\; font-size: 16px\; background-color: rgb(255\, 255\, 255)\;">Rooted in swing and be-bop\, The Trio also embraces gospel and the blues as core elements of their expansive performance style. Pianists/vocalist Eric Byrd\, bassist Bhagwan Khalsa\, and drummer Alphonso Young\, Jr.\, travel the world as enthusiastic ambassadors of jazz.</span>
LOCATION:Denton Library
UID:e.1366.2243
SEQUENCE:3
DTSTAMP:20260424T111950Z
URL:https://www.carolinechamber.org/events/details/friday-nites-in-caroline-eric-byrd-trio-2243
END:VEVENT

END:VCALENDAR
