BEGIN:VCALENDAR
VERSION:2.0
PRODID:-//ChamberMaster//Event Calendar 2.0//EN
METHOD:PUBLISH
X-PUBLISHED-TTL:P3D
REFRESH-INTERVAL:P3D
CALSCALE:GREGORIAN
BEGIN:VEVENT
DTSTART:20220902T200000Z
DTEND:20220902T220000Z
X-MICROSOFT-CDO-ALLDAYEVENT:FALSE
SUMMARY:Greensboro Connects initiative Ribbon Cutting Ceremony
DESCRIPTION:Join us to celebrate the opening of Greensboro Connects Initiative. The Greensboro Connects Initiative is a program that connects multiple services with residents of the Town of Greensboro and surrounding areas. This initiative will provide an office-style physical space to organizations including non-profits that provide a service to the community.
X-ALT-DESC;FMTTYPE=text/html:Join us to celebrate the opening of Greensboro Connects Initiative. The Greensboro Connects Initiative is a program that connects multiple services with residents of the Town of Greensboro and surrounding areas. This initiative will provide an office-style physical space to organizations including non-profits that provide a service to the community.
LOCATION:111 S. Main Street Greensboro MD 21639
UID:e.1366.3956
SEQUENCE:3
DTSTAMP:20260419T214502Z
URL:https://www.carolinechamber.org/events/details/greensboro-connects-initiative-ribbon-cutting-ceremony-3956
END:VEVENT

END:VCALENDAR
