BEGIN:VCALENDAR
VERSION:2.0
PRODID:-//ChamberMaster//Event Calendar 2.0//EN
METHOD:PUBLISH
X-PUBLISHED-TTL:P3D
REFRESH-INTERVAL:P3D
CALSCALE:GREGORIAN
BEGIN:VEVENT
DTSTART:20190504T123000Z
DTEND:20190504T150000Z
X-MICROSOFT-CDO-ALLDAYEVENT:FALSE
SUMMARY:Greensboro Kids Fishing Derby
DESCRIPTION:This family-friendly event is a great way to get your little ones out there fishing. The derby is open to children ages 16 and under\, and prizes will be awarded in many categories. Everyone will receive a free t-shirt and lunch. Bring your own fishing pole and tackle   bait will be provided. FREE
X-ALT-DESC;FMTTYPE=text/html:<span style="background-color: rgb(255\, 255\, 255)\; font-size: 11.5pt\; line-height: 19.1667px\; font-family: Arial\, sans-serif\; color: rgb(32\, 32\, 32)\;">This family-friendly event&nbsp\;is a great way to get your little ones out there fishing. The derby is open to children ages 16 and under\, and prizes will be awarded in many categories.&nbsp\;Everyone will receive a free t-shirt and lunch.&nbsp\;Bring your own fishing pole and tackle &ndash\; bait will be provided.&nbsp\;</span><strong style="font-family: &quot\;Times New Roman&quot\;\, serif\; font-size: 16px\; background-color: rgb(255\, 255\, 255)\;"><span style="font-family: Arial\, sans-serif\; color: goldenrod\;">FREE</span></strong>
LOCATION:Curtis Harvey Memorial Fireman's Park\, Greensboro Contact: 410.482.6222
UID:e.1366.2270
SEQUENCE:3
DTSTAMP:20260419T161321Z
URL:https://www.carolinechamber.org/events/details/greensboro-kids-fishing-derby-2270
END:VEVENT

END:VCALENDAR
