BEGIN:VCALENDAR
VERSION:2.0
PRODID:-//ChamberMaster//Event Calendar 2.0//EN
METHOD:PUBLISH
X-PUBLISHED-TTL:P3D
REFRESH-INTERVAL:P3D
CALSCALE:GREGORIAN
BEGIN:VEVENT
DTSTART:20190525T140000Z
DTEND:20190525T180000Z
X-MICROSOFT-CDO-ALLDAYEVENT:FALSE
SUMMARY:"Honoring Local Veterans" and Museum Open House
DESCRIPTION:The Federalsburg Historical Society invites you to a celebration of local Veterans and an open house at the museum. The event will feature light refreshments\, tours of the museum\, and displays featuring Veterans' artifacts.
X-ALT-DESC;FMTTYPE=text/html:<span style="color: rgb(32\, 32\, 32)\; font-family: Arial\, sans-serif\; font-size: 15.3333px\; background-color: rgb(255\, 255\, 255)\;">The Federalsburg Historical Society invites you to a celebration of local Veterans and an open house at the museum. The event will feature light refreshments\, tours of the museum\, and displays featuring Veterans&#39\; artifacts.&nbsp\;</span>
LOCATION:Federalsburg Heritage Museum\, 100 Covey St\, Federalsburg
UID:e.1366.2275
SEQUENCE:3
DTSTAMP:20260419T172624Z
URL:https://www.carolinechamber.org/events/details/honoring-local-veterans-and-museum-open-house-2275
END:VEVENT

END:VCALENDAR
