BEGIN:VCALENDAR
VERSION:2.0
PRODID:-//ChamberMaster//Event Calendar 2.0//EN
METHOD:PUBLISH
X-PUBLISHED-TTL:P3D
REFRESH-INTERVAL:P3D
CALSCALE:GREGORIAN
BEGIN:VEVENT
DTSTART:20220630T200000Z
DTEND:20220630T220000Z
X-MICROSOFT-CDO-ALLDAYEVENT:FALSE
SUMMARY:June Professional Meet & Greet
DESCRIPTION:Join us for our June Meet & Greet at the Caroline's Sidebar for\n\nnetworking\, light fare and cash bar\n\nSponsor Nicole Acle for Delegate 37B\n\n406 Market Street\n\nDenton\, MD
X-ALT-DESC;FMTTYPE=text/html:Join us for our June Meet &amp\; Greet at the Caroline&#39\;s Sidebar&nbsp\;for<br />\nnetworking\, light fare and cash bar<br />\nSponsor Nicole Acle for Delegate 37B<br />\n406 Market Street<br />\nDenton\, MD&nbsp\;
LOCATION:Bring your business cards with you!
UID:e.1366.3944
SEQUENCE:3
DTSTAMP:20260420T014339Z
URL:https://www.carolinechamber.org/events/details/june-professional-meet-greet-3944
END:VEVENT

END:VCALENDAR
