BEGIN:VCALENDAR
VERSION:2.0
PRODID:-//ChamberMaster//Event Calendar 2.0//EN
METHOD:PUBLISH
X-PUBLISHED-TTL:P3D
REFRESH-INTERVAL:P3D
CALSCALE:GREGORIAN
BEGIN:VEVENT
DTSTART:20140423T113000Z
DTEND:20140423T133000Z
X-MICROSOFT-CDO-ALLDAYEVENT:FALSE
SUMMARY:Legislative Wrap Up Breakfast
DESCRIPTION:Sponsored by Provident State Bank\n\n\n\nJoin us for breakfast and a Legislative Wrap up presentation with our local legislators about the issues and bills from the 2014 State Legislative Session.
X-ALT-DESC;FMTTYPE=text/html:<em>Sponsored by <a href="http://www.providentstatebank.com/">Provident State Bank</a></em><br />\n<br />\nJoin us for breakfast and a Legislative Wrap up presentation with our local legislators about the issues and bills from the 2014 State Legislative Session.<br />\n&nbsp\;
LOCATION:The Union United Methodist Church 301 North Main Street Federalsburg\, MD
UID:e.1366.380
SEQUENCE:3
DTSTAMP:20260421T053821Z
URL:https://www.carolinechamber.org/events/details/legislative-wrap-up-breakfast-04-23-2014-380
END:VEVENT

END:VCALENDAR
