BEGIN:VCALENDAR
VERSION:2.0
PRODID:-//ChamberMaster//Event Calendar 2.0//EN
METHOD:PUBLISH
X-PUBLISHED-TTL:P3D
REFRESH-INTERVAL:P3D
CALSCALE:GREGORIAN
BEGIN:VEVENT
DTSTART:20181207T000000Z
DTEND:20181207T010000Z
X-MICROSOFT-CDO-ALLDAYEVENT:FALSE
SUMMARY:Lighting of the Green
DESCRIPTION:It's a tradition to gather at the steps of the County Courthouse to discover the magic words that will light the trees signaling the beginning of the holiday season. Join us Thursday\, December 6 at 7 p.m. for the Lighting of the Green. This event follows the Annual Christmas Parade at 6 p.m. in downtown Denton including custom floats\, marching bands\, fire trucks and queens. This parade is free and open to churches\, school groups\, marching bands\, fire departments\, civic organizations and more. For parade entry information call the Town of Denton at 479-2050.
X-ALT-DESC;FMTTYPE=text/html:<span style="font-size:14px"><span style="font-family:times new roman">It&rsquo\;s a tradition to gather at the steps of the County Courthouse to discover the magic words that will light the trees signaling the beginning of the holiday season.&nbsp\;Join us Thursday\, December&nbsp\;6 at 7 p.m. for the <strong>Lighting of the Green.</strong> This event follows the Annual Christmas Parade at 6 p.m. in downtown Denton including custom floats\, marching bands\, fire trucks and queens.&nbsp\;This parade is free and open to churches\, school groups\, marching bands\, fire departments\, civic organizations and more. For parade entry information call the Town of Denton at 479-2050.</span></span><br />\n&nbsp\;
LOCATION:Downtown Denton
UID:e.1366.2041
SEQUENCE:3
DTSTAMP:20260424T152901Z
URL:https://www.carolinechamber.org/events/details/lighting-of-the-green-2041
END:VEVENT

END:VCALENDAR
