BEGIN:VCALENDAR
VERSION:2.0
PRODID:-//ChamberMaster//Event Calendar 2.0//EN
METHOD:PUBLISH
X-PUBLISHED-TTL:P3D
REFRESH-INTERVAL:P3D
CALSCALE:GREGORIAN
BEGIN:VEVENT
DTSTART:20200609T160000Z
DTEND:20200609T170000Z
X-MICROSOFT-CDO-ALLDAYEVENT:FALSE
SUMMARY:Lunch & Learn
DESCRIPTION:Join the Caroline County Chamber of Commerce for a Walk through the PPP Forgiveness Application
X-ALT-DESC;FMTTYPE=text/html:Join the Caroline County Chamber of Commerce for a Walk through the PPP Forgiveness Application&nbsp\;<br />\n&nbsp\;<br />\n<br />\n<br />\n&nbsp\;
LOCATION:Virtual Zoom Meeting
UID:e.1366.3678
SEQUENCE:3
DTSTAMP:20260423T144507Z
URL:https://www.carolinechamber.org/events/details/lunch-learn-3678
END:VEVENT

END:VCALENDAR
