BEGIN:VCALENDAR
VERSION:2.0
PRODID:-//ChamberMaster//Event Calendar 2.0//EN
METHOD:PUBLISH
X-PUBLISHED-TTL:P3D
REFRESH-INTERVAL:P3D
CALSCALE:GREGORIAN
BEGIN:VEVENT
DTSTART:20140306T163000Z
DTEND:20140306T180000Z
X-MICROSOFT-CDO-ALLDAYEVENT:FALSE
SUMMARY:Lunch with the Comptroller
DESCRIPTION:Join us at Homestead Manor for lunch and a presentation by Maryland State Comptroller\, Peter Franchot.\n\n\n\nSponsored by Bay Capital Mortgage
X-ALT-DESC;FMTTYPE=text/html:Join us at Homestead Manor for lunch and a presentation by Maryland State Comptroller\, Peter Franchot.<br />\n<br />\nSponsored by <a href="http://www.baycapitalmortgage.com/employeedetail.aspx?groupid=829&amp\;employeeid=21995">Bay Capital Mortgage</a>
LOCATION:Homestead Manor 410 Colonial Drive Denton\, MD 21629 Map and Directions
UID:e.1366.384
SEQUENCE:3
DTSTAMP:20260422T030344Z
URL:https://www.carolinechamber.org/events/details/lunch-with-the-comptroller-03-06-2014-384
END:VEVENT

END:VCALENDAR
