BEGIN:VCALENDAR
VERSION:2.0
PRODID:-//ChamberMaster//Event Calendar 2.0//EN
METHOD:PUBLISH
X-PUBLISHED-TTL:P3D
REFRESH-INTERVAL:P3D
CALSCALE:GREGORIAN
BEGIN:VEVENT
DTSTART:20191021T120000Z
DTEND:20191021T180000Z
X-MICROSOFT-CDO-ALLDAYEVENT:FALSE
SUMMARY:MEDA 2019 Fall Conference
DESCRIPTION:MEDA presents the 2019 Fall Conference   Defining Your Community Identity    in partnership with the Rural Economic Development Session\, sponsored by PNC Bank. Each community has a unique vibe with distinct commercial centers designed\, organized and promoted to create a sense of livability.  Economic Developers are charged with identifying and enhancing those unique features to help the community attract new businesses that seek to locate and grow there.  But\, how do you assess your community\, strategically plan for and attract the right balance of business\, entertainment\, and services to meet your community's needs? Our Fall Conference will discuss these issues and take a very focused look at the rural communities in Maryland that are positioned to provide the right mix of economic development strategies for livability and growth.
X-ALT-DESC;FMTTYPE=text/html:MEDA presents the 2019 Fall Conference &ndash\;&nbsp\;Defining Your Community Identity&nbsp\;&ndash\;&nbsp\;&nbsp\;in partnership with the Rural Economic Development Session\, sponsored by PNC Bank. Each community has a unique vibe with distinct commercial centers designed\, organized and promoted to create a sense of livability.&nbsp\; Economic Developers are charged with identifying and enhancing those unique features to help the community attract new businesses that seek to locate and grow there.&nbsp\; But\, how do you assess your community\, strategically plan for and attract the right balance of business\, entertainment\, and services to meet your community&rsquo\;s needs? Our Fall Conference will discuss these issues and take a very focused look at the rural communities in Maryland that are positioned to provide the right mix of economic development strategies for livability and growth.
LOCATION:Tidewater Inn
UID:e.1366.2530
SEQUENCE:3
DTSTAMP:20260424T022212Z
URL:https://www.carolinechamber.org/events/details/meda-2019-fall-conference-2530
END:VEVENT

END:VCALENDAR
