BEGIN:VCALENDAR
VERSION:2.0
PRODID:-//ChamberMaster//Event Calendar 2.0//EN
METHOD:PUBLISH
X-PUBLISHED-TTL:P3D
REFRESH-INTERVAL:P3D
CALSCALE:GREGORIAN
BEGIN:VEVENT
DTSTART:20181205T000000Z
DTEND:20181205T010000Z
X-MICROSOFT-CDO-ALLDAYEVENT:FALSE
SUMMARY:Mid Shore Community Band Holiday Concert
DESCRIPTION:Kick off the holiday season with a special Caroline County performance by the Mid-Shore Community Band. This concert is it's own holiday tradition. Don't miss the opprotunity to hear local volunteer musicians spread a little cheer with a mix of well known and holiday tunes.
X-ALT-DESC;FMTTYPE=text/html:Kick off the holiday season with a special Caroline County performance by the Mid-Shore Community Band. This concert is it&#39\;s own holiday tradition. Don&#39\;t miss the opprotunity to hear local volunteer musicians spread a little cheer with a mix of well known and holiday tunes.
LOCATION:North Caroline High School Auditorium
UID:e.1366.2050
SEQUENCE:3
DTSTAMP:20260424T154012Z
URL:https://www.carolinechamber.org/events/details/mid-shore-community-band-holiday-concert-2050
END:VEVENT

END:VCALENDAR
