BEGIN:VCALENDAR
VERSION:2.0
PRODID:-//ChamberMaster//Event Calendar 2.0//EN
METHOD:PUBLISH
X-PUBLISHED-TTL:P3D
REFRESH-INTERVAL:P3D
CALSCALE:GREGORIAN
BEGIN:VEVENT
DTSTART:20190224T190000Z
DTEND:20190224T220000Z
X-MICROSOFT-CDO-ALLDAYEVENT:FALSE
SUMMARY:Murder Mystery Dinner Theatre: You Auto Know Better
DESCRIPTION:Don't miss this fun-filled\, interactive dinner theatre performance! Rex Bentley\, owner and CEO of the American Corner Auto Ranch\, has died after driving his car off a bridge into the Choptank River. We are at a combination memorial tribute and shareholders' meeting\, where his will is to be read and a new CEO chosen\, when accusations fly that he was murdered. Love triangles\, quadrangles\, lies\, and deceit abound. Audience members will be able to question the suspects and try to help solve the murders in a night full of laughs and surprises. There might even be a little gift to take home! Friday and Saturday dinner will include an Italian buffet\, while Sunday's matinee menu includes soup and assorted sandwiches.
X-ALT-DESC;FMTTYPE=text/html:<span style="color: rgb(32\, 32\, 32)\; font-family: Arial\, sans-serif\; font-size: 14px\; background-color: rgb(255\, 255\, 255)\;">Don&rsquo\;t miss this fun-filled\, interactive dinner theatre performance! Rex Bentley\, owner and CEO of the American Corner Auto Ranch\, has died after driving his car off a bridge into the Choptank River. We are at a combination memorial tribute and shareholders&rsquo\; meeting\, where his will is to be read and a new CEO chosen\, when accusations fly that he was murdered. Love triangles\, quadrangles\, lies\, and deceit abound. Audience members will be able to question the suspects and try to help solve the murders in a night full of laughs and surprises. There might even be a little gift to take home! Friday and Saturday dinner will include an Italian buffet\, while Sunday&rsquo\;s matinee menu includes soup and assorted sandwiches.</span>
LOCATION:Caroline Coounty Public Library 100 Market Street Denton\, MD
UID:e.1366.2085
SEQUENCE:3
DTSTAMP:20260424T135900Z
URL:https://www.carolinechamber.org/events/details/murder-mystery-dinner-theatre-you-auto-know-better-02-24-2019-2085
END:VEVENT

END:VCALENDAR
