BEGIN:VCALENDAR
VERSION:2.0
PRODID:-//ChamberMaster//Event Calendar 2.0//EN
METHOD:PUBLISH
X-PUBLISHED-TTL:P3D
REFRESH-INTERVAL:P3D
CALSCALE:GREGORIAN
BEGIN:VEVENT
DTSTART:20220522T180000Z
DTEND:20220522T200000Z
X-MICROSOFT-CDO-ALLDAYEVENT:FALSE
SUMMARY:Paint Day-Open to all
DESCRIPTION:Join us for a Paint Day! Pre-register only.
X-ALT-DESC;FMTTYPE=text/html:Join us for a Paint Day! Pre-register only.
LOCATION:American Legion Post 29 Denton\, MD
UID:e.1366.3934
SEQUENCE:3
DTSTAMP:20260420T030536Z
URL:https://www.carolinechamber.org/events/details/paint-day-open-to-all-3934
END:VEVENT

END:VCALENDAR
