BEGIN:VCALENDAR
VERSION:2.0
PRODID:-//ChamberMaster//Event Calendar 2.0//EN
METHOD:PUBLISH
X-PUBLISHED-TTL:P3D
REFRESH-INTERVAL:P3D
CALSCALE:GREGORIAN
BEGIN:VEVENT
DTSTART:20170316T113000Z
DTEND:20170317T020000Z
X-MICROSOFT-CDO-ALLDAYEVENT:FALSE
SUMMARY:Philadelphia Flower Show Bus Trip
DESCRIPTION:The PHS Philadelphia Flower Show is the nation's largest and longest-running horticultural event and features stunning displays by the world's premier floral and landscape designers.\n\n \n\nThis year's show\, "Holland: Flowering the World\," will transport you to the rainbow landscapes of tulips\, hyacinths and daffodils\, and through the cut-flower and bulb markets that have shaped Holland's history and culture as much as windmills and wooden shoes! \n\n\n\nIn addition to the major garden displays\, the Flower Show hosts world-renowned competitions in horticulture and artistic floral arranging\, gardening presentations and demonstrations\, special events\, a mammoth indoor marketplace\, and the city-wide Bloom Philly celebration.\n\n\n\nHolland's culinary culture of great cheeses\, chocolates\, beer\, and other cuisine will also be part of this international celebration. And everyone is welkom!\n\n\n\nShow hours are from 10am  -9pm. For more information on the Philadelphia Flower Show\, click here.
X-ALT-DESC;FMTTYPE=text/html:The PHS Philadelphia Flower Show is the nation&#39\;s largest and longest-running horticultural event and features stunning displays by the world&#39\;s&nbsp\;premier floral and landscape designers.<br />\n&nbsp\;<br />\nThis year&#39\;s show\, &quot\;Holland: Flowering the World\,&quot\; will transport you to the&nbsp\;rainbow landscapes of tulips\, hyacinths and daffodils\, and through the cut-flower and bulb&nbsp\;markets that have shaped Holland&#39\;s history and culture as much as windmills and wooden shoes!&nbsp\;<br />\n<br />\nIn addition to the major garden displays\, the Flower Show hosts world-renowned competitions in horticulture and artistic&nbsp\;floral arranging\, gardening presentations and demonstrations\, special events\, a mammoth indoor marketplace\, and the city-wide Bloom Philly celebration.<br />\n<br />\nHolland&#39\;s culinary culture of great cheeses\, chocolates\, beer\, and other cuisine will also be part of this international celebration. And everyone is <em>welkom!</em><br />\n<br />\nShow hours are from 10am&nbsp\;&nbsp\;-9pm. For more information on the Philadelphia Flower Show\, <a href="http://theflowershow.com/about">click here.</a>
LOCATION:Bus will depart from the Walmart parking lot\, 610 Legion Road\, Denton\, at 7:30 am sharp and will drop off at the Pennsylvania Convention Center in Philadelphia.
UID:e.1366.627
SEQUENCE:3
DTSTAMP:20260425T231032Z
URL:https://www.carolinechamber.org/events/details/philadelphia-flower-show-bus-trip-627
END:VEVENT

END:VCALENDAR
