BEGIN:VCALENDAR
VERSION:2.0
PRODID:-//ChamberMaster//Event Calendar 2.0//EN
METHOD:PUBLISH
X-PUBLISHED-TTL:P3D
REFRESH-INTERVAL:P3D
CALSCALE:GREGORIAN
BEGIN:VEVENT
DTSTART:20190304T150000Z
DTEND:20190305T020000Z
X-MICROSOFT-CDO-ALLDAYEVENT:FALSE
SUMMARY:Philadelphia Flower Show Bus Trip - Sponsored by Adkins Arboretum
DESCRIPTION:The 190th PHS Philadelphia Flower Show will pay tribute to the enormous impact of flowers on our lives. From the first blooms of spring in your home garden to the expansive fields that fuel whole economies\, flowers influence how we feel\, think\, and act in ways both small and global. Exhibits will take a comprehensive approach to the theme with sweeping landscapes and artful interpretations that convey a universal language.\n\n\n\nFor more adventure\, add an early-afternoon guided tour of the Rail Park! The tour will start at 21st & Pennsylvania Avenue and end at 12th & Noble\, the site of the recently opened Phase I. Participants will be dropped off near the Rodin Museum to enjoy the Dorrane H. Hamilton Garden and have lunch on their own before the walking tour at 2 p.m. Phase I of the park is within a half mile of the Philadelphia Flower Show\, where participants can join the others for the show.
X-ALT-DESC;FMTTYPE=text/html:<p style="box-sizing: border-box\; margin: 0in 0in 8pt\; color: rgb(59\, 56\, 56)\; font-family: Lato\, &quot\;Arial sans-serif&quot\;\; font-size: 14px\; background-color: rgb(255\, 255\, 255)\;"><span style="box-sizing: border-box\; font-family: tahoma\, arial\, helvetica\, sans-serif\; color: rgb(51\, 51\, 51)\; background-image: initial\; background-position: initial\; background-size: initial\; background-repeat: initial\; background-attachment: initial\; background-origin: initial\; background-clip: initial\; font-size: 14pt\;">The 190th PHS Philadelphia Flower Show will pay tribute to the enormous impact of flowers on our lives. From the first blooms of spring in your home garden to the expansive fields that fuel whole economies\, flowers influence how we feel\, think\, and act in ways both small and global. Exhibits will take a comprehensive approach to the theme with sweeping landscapes and artful interpretations that convey a universal language.<br style="box-sizing: border-box\;" />\n<br style="box-sizing: border-box\;" />\nFor more adventure\, add an early-afternoon guided tour of the Rail Park! The tour will start at 21st &amp\; Pennsylvania Avenue and end at 12th &amp\; Noble\, the site of the recently opened Phase I. Participants will be dropped off near the Rodin Museum to enjoy the Dorrane H. Hamilton Garden and have lunch on their own before the walking tour at 2 p.m. Phase I of the park is within a half mile of the Philadelphia Flower Show\, where participants can join the others for the show.</span><br style="box-sizing: border-box\;" />\n&nbsp\;</p>\n\n<p style="box-sizing: border-box\; margin: 0px 0px 10px\; color: rgb(59\, 56\, 56)\; font-family: Lato\, &quot\;Arial sans-serif&quot\;\; font-size: 14px\; background-color: rgb(255\, 255\, 255)\;">&nbsp\;</p>\n
LOCATION:
UID:e.1366.2092
SEQUENCE:3
DTSTAMP:20260424T114558Z
URL:https://www.carolinechamber.org/events/details/philadelphia-flower-show-bus-trip-sponsored-by-adkins-arboretum-2092
END:VEVENT

END:VCALENDAR
