BEGIN:VCALENDAR
VERSION:2.0
PRODID:-//ChamberMaster//Event Calendar 2.0//EN
METHOD:PUBLISH
X-PUBLISHED-TTL:P3D
REFRESH-INTERVAL:P3D
CALSCALE:GREGORIAN
BEGIN:VEVENT
DTSTART;VALUE=DATE:20190608
DTEND;VALUE=DATE:20190609
TRANSP:TRANSPARENT
X-MICROSOFT-CDO-ALLDAYEVENT:TRUE
SUMMARY:Positive Strides' Jaime Lee Hutchison Memorial Spring Fling Horse Show
DESCRIPTION:The Jaime Lee Hutchison Memorial Show is held in memory of Jaime\, a former rider with Positive Strides (formerly Talbot Special Riders). Jaime sadly passed away in November 2017 due to colon cancer. Another show in the fall\, the Fall Fest show will be held in November. All participants of Positive Strides Therapeutic Riding Center will be able to participate in equitation\, trail and jumping classes and compete for medals. There will also be a rider recognition ceremony held during the lunch break. The public is welcome and encouraged to attend and cheer on our riders.
X-ALT-DESC;FMTTYPE=text/html:The Jaime Lee Hutchison Memorial Show is held in memory of Jaime\, a former rider with Positive Strides (formerly Talbot Special Riders). Jaime sadly passed away in November 2017 due to colon cancer. Another show in the fall\, the Fall Fest show will be held in November. All participants of Positive Strides Therapeutic Riding Center will be able to participate in equitation\, trail and jumping classes and compete for medals. There will also be a rider recognition ceremony held during the lunch break. The public is welcome and encouraged to attend and cheer on our riders.
LOCATION:Timber Grove Farm 6292 Statum Rd. Preston\, MD 21655
UID:e.1366.2282
SEQUENCE:3
DTSTAMP:20260419T161449Z
URL:https://www.carolinechamber.org/events/details/positive-strides-jaime-lee-hutchison-memorial-spring-fling-horse-show-2282
END:VEVENT

END:VCALENDAR
