BEGIN:VCALENDAR
VERSION:2.0
PRODID:-//ChamberMaster//Event Calendar 2.0//EN
METHOD:PUBLISH
X-PUBLISHED-TTL:P3D
REFRESH-INTERVAL:P3D
CALSCALE:GREGORIAN
BEGIN:VEVENT
DTSTART:20191020T173000Z
DTEND:20191020T190000Z
X-MICROSOFT-CDO-ALLDAYEVENT:FALSE
SUMMARY:Presentation : Lost History of Frederick Douglass in Queen Anne's County
DESCRIPTION:Join local history enthusiasts and community leaders for a debut presentation detailing the previously unknown history of Marshal Frederick Douglass visiting and speaking to more than 500 hundred people in Centreville\, Maryland.\n\nArriving in Queenstown\, Queen Anne's County\, by steamboat from Baltimore\, the visit of Marshal Douglass to Centreville drew visitors from nearby Talbot\, Caroline and Kent counties.\n\nLearn more about the lost local history from internationally known Douglassonian John Muller\, who has previously presented on the lost and unknown history of visits Douglass made to Cambridge in Dorchester County and Denton in Caroline County.\n\nQ&A following the presentation.
X-ALT-DESC;FMTTYPE=text/html:<p style="margin: 0px\; padding: 0px\; color: rgb(111\, 114\, 135)\; font-family: &quot\;Neue Plak&quot\;\, -apple-system\, BlinkMacSystemFont\, Roboto\, &quot\;Helvetica Neue&quot\;\, Helvetica\, Tahoma\, Arial\, sans-serif\; font-size: 14.9333px\; letter-spacing: 0.5px\; background-color: rgb(255\, 255\, 255)\;">Join local history enthusiasts and community leaders for a debut presentation detailing the previously unknown history of Marshal Frederick Douglass visiting and speaking to more than 500 hundred people in Centreville\, Maryland.</p>\n\n<p style="margin: 0px\; padding: 10px 0px 0px\; color: rgb(111\, 114\, 135)\; font-family: &quot\;Neue Plak&quot\;\, -apple-system\, BlinkMacSystemFont\, Roboto\, &quot\;Helvetica Neue&quot\;\, Helvetica\, Tahoma\, Arial\, sans-serif\; font-size: 14.9333px\; letter-spacing: 0.5px\; background-color: rgb(255\, 255\, 255)\;">Arriving in Queenstown\, Queen Anne&rsquo\;s County\, by steamboat from Baltimore\, the visit of Marshal Douglass to Centreville drew visitors from nearby Talbot\, Caroline and Kent counties.</p>\n\n<p style="margin: 0px\; padding: 10px 0px 0px\; color: rgb(111\, 114\, 135)\; font-family: &quot\;Neue Plak&quot\;\, -apple-system\, BlinkMacSystemFont\, Roboto\, &quot\;Helvetica Neue&quot\;\, Helvetica\, Tahoma\, Arial\, sans-serif\; font-size: 14.9333px\; letter-spacing: 0.5px\; background-color: rgb(255\, 255\, 255)\;">Learn more about the lost local history from internationally known Douglassonian John Muller\, who has previously presented on the lost and unknown history of visits Douglass made to Cambridge in Dorchester County and Denton in Caroline County.</p>\n\n<p style="margin: 0px\; padding: 10px 0px 0px\; color: rgb(111\, 114\, 135)\; font-family: &quot\;Neue Plak&quot\;\, -apple-system\, BlinkMacSystemFont\, Roboto\, &quot\;Helvetica Neue&quot\;\, Helvetica\, Tahoma\, Arial\, sans-serif\; font-size: 14.9333px\; letter-spacing: 0.5px\; background-color: rgb(255\, 255\, 255)\;">Q&amp\;A following the presentation.</p>\n
LOCATION:Centreville Branch of the Queen Anne's County Library
UID:e.1366.2538
SEQUENCE:3
DTSTAMP:20260424T023022Z
URL:https://www.carolinechamber.org/events/details/presentation-lost-history-of-frederick-douglass-in-queen-anne-s-county-2538
END:VEVENT

END:VCALENDAR
