BEGIN:VCALENDAR
VERSION:2.0
PRODID:-//ChamberMaster//Event Calendar 2.0//EN
METHOD:PUBLISH
X-PUBLISHED-TTL:P3D
REFRESH-INTERVAL:P3D
CALSCALE:GREGORIAN
BEGIN:VEVENT
DTSTART:20170113T170000Z
DTEND:20170113T180000Z
X-MICROSOFT-CDO-ALLDAYEVENT:FALSE
SUMMARY:Ribbon Cutting and Open House at Hoffman Irrigation
DESCRIPTION:Join us for an Open House and Ribbon Cutting at Hoffman Irrigation.  Lunch and the Chamber Hosted Ribbon Cutting will take place at 12:00 noon.\n\n\n\nService Seminar Starts at 8AM\n\nTechnology Seminar Starts at 10AM\nLunch and Ribbon Cutting at Noon
X-ALT-DESC;FMTTYPE=text/html:Join us for an Open House and Ribbon Cutting at Hoffman Irrigation. &nbsp\;Lunch and the Chamber Hosted Ribbon Cutting will take place at 12:00 noon.<br />\n<br style="font-family: Tahoma\, Geneva\, sans-serif\; font-size: 12.09px\; background-color: rgb(255\, 255\, 255)\;" />\n<span style="font-family: Tahoma\, Geneva\, sans-serif\; font-size: 12.09px\; background-color: rgb(255\, 255\, 255)\;">Service Seminar Starts at 8AM</span><br style="font-family: Tahoma\, Geneva\, sans-serif\; font-size: 12.09px\; background-color: rgb(255\, 255\, 255)\;" />\n<span style="font-family: Tahoma\, Geneva\, sans-serif\; font-size: 12.09px\; background-color: rgb(255\, 255\, 255)\;">Technology Seminar Starts at 10AM</span>\n<div style="margin: 0px\; padding: 0px\; font-family: Tahoma\, Geneva\, sans-serif\; font-size: 12.09px\; background-color: rgb(255\, 255\, 255)\;">Lunch and Ribbon Cutting at Noon<br />\n<br />\n&nbsp\;</div>\n
LOCATION:VFW 2630 Veterans Drive Federalsburg\, MD 21632
UID:e.1366.647
SEQUENCE:3
DTSTAMP:20260426T003215Z
URL:https://www.carolinechamber.org/events/details/ribbon-cutting-and-open-house-at-hoffman-irrigation-647
END:VEVENT

END:VCALENDAR
