BEGIN:VCALENDAR
VERSION:2.0
PRODID:-//ChamberMaster//Event Calendar 2.0//EN
METHOD:PUBLISH
X-PUBLISHED-TTL:P3D
REFRESH-INTERVAL:P3D
CALSCALE:GREGORIAN
BEGIN:VEVENT
DTSTART:20180515T210000Z
DTEND:20180515T230000Z
X-MICROSOFT-CDO-ALLDAYEVENT:FALSE
SUMMARY:Ribbon Cutting and Open House Brinton Woods
DESCRIPTION:Join us for a Ribbon cutting & Open House for Brinton Woods of Denton!\n\n\n\nBrinton Woods Health & Rehabilitation Center of Denton\, located on Maryland's beautiful eastern shore\, provides short-term inpatient rehab services\, skilled nursing care\, and long term care services to our residents. The facility became part of the Brinton Woods family in July of 2017 and has allowed us to provide services throughout Maryland.
X-ALT-DESC;FMTTYPE=text/html:<span style="color: rgb(13\, 45\, 30)\; font-family: &quot\;Roboto 400&quot\;\; font-size: 14px\;">Join us for a Ribbon cutting &amp\; Open House for Brinton&nbsp\;Woods of Denton!<br />\n<br />\nBrinton Woods Health &amp\; Rehabilitation Center of Denton\, located on Maryland&rsquo\;s beautiful eastern shore\, provides short-term inpatient rehab services\, skilled nursing care\, and long term care services to our residents. The facility became part of the Brinton Woods family in July of 2017 and has allowed us to provide services throughout Maryland.</span>
LOCATION:Brinton Woods 420 Colonial Drive Denton\, MD 21629
UID:e.1366.975
SEQUENCE:3
DTSTAMP:20260425T011341Z
URL:https://www.carolinechamber.org/events/details/ribbon-cutting-and-open-house-brinton-woods-975
END:VEVENT

END:VCALENDAR
