BEGIN:VCALENDAR
VERSION:2.0
PRODID:-//ChamberMaster//Event Calendar 2.0//EN
METHOD:PUBLISH
X-PUBLISHED-TTL:P3D
REFRESH-INTERVAL:P3D
CALSCALE:GREGORIAN
BEGIN:VEVENT
DTSTART:20161117T210000Z
DTEND:20161117T230000Z
X-MICROSOFT-CDO-ALLDAYEVENT:FALSE
SUMMARY:Ribbon Cutting and Open House for Twilight Farms Gift Shop
DESCRIPTION:Please join us for a Ribbon Cutting and Open House at Twilight Farms Country Collectibles and Gift Shop on Thursday\, November 17\, 2016 from 4pm to 6pm.  The ribbon cutting will take place at 5pm. \n\n\n\nThis is a great opportunity to network with your colleagues\, buys some gifts for the upcoming holidays and enjoy a generous buffet of refreshments from Bullocks Deli\, and donuts and pastry from The Donut Shack\, soda\, coffee\, hot tea\, beer and wine from Easter Shore Winery.\n\n\n\nDoor prizes will be a large fall wreath and large Christmas wreath and there will be a discount of an extra 15% off regular priced items and extra 10% off sale priced items.\n\n\n\nGiveaways will include pens\, calendars and lunch bags.
X-ALT-DESC;FMTTYPE=text/html:<span style="font-family: arial\; font-size: 14px\;">Please join us for a Ribbon Cutting and Open House at Twilight Farms Country Collectibles and Gift Shop&nbsp\;</span><span style="font-size:14px\;"><span style="font-family:arial\;">on Thursday\, November 17\, 2016 from 4pm to 6pm. &nbsp\;The ribbon cutting will take place at 5pm.&nbsp\;</span></span><br />\n<br />\nThis is a great opportunity to network with your colleagues\, buys some gifts for the upcoming holidays and enjoy a generous buffet of refreshments&nbsp\;from Bullocks Deli\, and donuts and pastry from The Donut Shack\,&nbsp\;soda\, coffee\, hot tea\, beer and wine from Easter Shore Winery.<br />\n<br />\nDoor prizes will be a large fall wreath and large Christmas wreath and there will be a discount of an&nbsp\;extra 15% off regular priced items and extra 10% off sale priced items.<br />\n<br />\nGiveaways will include pens\, calendars and lunch bags.<br />\n<br />\n&nbsp\;
LOCATION:7305 Todds Wharf Road Preston (Entrance to Gift Shop is from Route 16 - Harmony Road - Turn at the Banners)
UID:e.1366.633
SEQUENCE:3
DTSTAMP:20260426T033546Z
URL:https://www.carolinechamber.org/events/details/ribbon-cutting-and-open-house-for-twilight-farms-gift-shop-633
END:VEVENT

END:VCALENDAR
