BEGIN:VCALENDAR
VERSION:2.0
PRODID:-//ChamberMaster//Event Calendar 2.0//EN
METHOD:PUBLISH
X-PUBLISHED-TTL:P3D
REFRESH-INTERVAL:P3D
CALSCALE:GREGORIAN
BEGIN:VEVENT
DTSTART:20180609T140000Z
DTEND:20180609T143000Z
X-MICROSOFT-CDO-ALLDAYEVENT:FALSE
SUMMARY:Ribbon Cutting! Smokey Cat Lavender Farm
DESCRIPTION:Join us for a Ribbon Cutting to celebrate the Grand Opening of the Smokey Cat Pick-Your-Own Lavender Farm and Gift Shoppe in Federalsburg!
X-ALT-DESC;FMTTYPE=text/html:Join us for a Ribbon Cutting to celebrate the Grand Opening of the Smokey Cat Pick-Your-Own Lavender Farm and Gift Shoppe in Federalsburg!<br />\n<br />\n&nbsp\;
LOCATION:5090 Long Swamp Road Federalsburg\, MD
UID:e.1366.1990
SEQUENCE:3
DTSTAMP:20260424T234043Z
URL:https://www.carolinechamber.org/events/details/ribbon-cutting-smokey-cat-lavender-farm-1990
END:VEVENT

END:VCALENDAR
