BEGIN:VCALENDAR
VERSION:2.0
PRODID:-//ChamberMaster//Event Calendar 2.0//EN
METHOD:PUBLISH
X-PUBLISHED-TTL:P3D
REFRESH-INTERVAL:P3D
CALSCALE:GREGORIAN
BEGIN:VEVENT
DTSTART:20161102T200000Z
DTEND:20161102T220000Z
X-MICROSOFT-CDO-ALLDAYEVENT:FALSE
SUMMARY:Ribbon Cutting to Celebrate the Goldsboro Medical Center 10th Anniversary
DESCRIPTION:Please join us for a Ribbon Cutting to celebrate the 10th Anniversary of Choptank Community Health's Goldsboro Medical Center.  \n\n\n\nThe Goldsboro Medical Center is holding a 10th Anniversary Celebration on Wednesday\, November 2nd\, 2016 from 4pm to 6pm.  At 4:45pm there will be a release of balloons to remember those who are battling and who have lost their battles with cancer.\n\n\n\nThe Caroline County Chamber of Commerce will hold a ribbon cutting at 5pm.  Vendors representing the Health Department.\, Caroline County YMCA\, Caroline County Emergency Responders\, and others will be there to provide cancer screenings\, dental screenings and health care information.\n\n\n\nThere will be refreshments and prize drawings.
X-ALT-DESC;FMTTYPE=text/html:<span style="font-family: arial\; font-size: 14px\;">Please join us for a Ribbon Cutting to celebrate the&nbsp\;</span>10th<span style="font-family: arial\; font-size: 14px\;">&nbsp\;Anniversary of&nbsp\;</span>Choptank<span style="font-family: arial\; font-size: 14px\;">&nbsp\;Community Health&#39\;s&nbsp\;</span>Goldsboro<span style="font-family: arial\; font-size: 14px\;">&nbsp\;Medical Center. &nbsp\;</span><br />\n<br />\n<span style="font-size:14px\;"><span style="font-family:arial\;">The Goldsboro Medical Center is holding a 10th&nbsp\;Anniversary Celebration on Wednesday\, November 2nd\, 2016 from 4pm to 6pm. &nbsp\;At 4:45pm there will be a release of balloons to remember those who are battling and who have lost their battles with cancer.<br />\n<br />\nThe Caroline County Chamber of Commerce will hold a ribbon cutting at 5pm. &nbsp\;Vendors representing the Health Department.\, Caroline County YMCA\, Caroline County Emergency Responders\, and others will be there to provide cancer screenings\, dental screenings and&nbsp\;health care information.<br />\n<br />\nThere will be refreshments and prize drawings.</span></span>
LOCATION:Goldsboro Medical Center 316 Railroad Ave Goldsboro\, MD 21636
UID:e.1366.631
SEQUENCE:3
DTSTAMP:20260426T033554Z
URL:https://www.carolinechamber.org/events/details/ribbon-cutting-to-celebrate-the-goldsboro-medical-center-10th-anniversary-631
END:VEVENT

END:VCALENDAR
