BEGIN:VCALENDAR
VERSION:2.0
PRODID:-//ChamberMaster//Event Calendar 2.0//EN
METHOD:PUBLISH
X-PUBLISHED-TTL:P3D
REFRESH-INTERVAL:P3D
CALSCALE:GREGORIAN
BEGIN:VEVENT
DTSTART:20191222T003000Z
DTEND:20191222T013000Z
X-MICROSOFT-CDO-ALLDAYEVENT:FALSE
SUMMARY:Ridgely "Live Nativity" Pageant
DESCRIPTION:Costumed actors\, animals and live music depicts the Christmas story.
X-ALT-DESC;FMTTYPE=text/html:Costumed actors\, animals and live music depicts the Christmas story.
LOCATION:Lot next to Ridgely Town Hall on Central Ave.
UID:e.1366.3577
SEQUENCE:3
DTSTAMP:20260423T233328Z
URL:https://www.carolinechamber.org/events/details/ridgely-live-nativity-pageant-3577
END:VEVENT

END:VCALENDAR
