BEGIN:VCALENDAR
VERSION:2.0
PRODID:-//ChamberMaster//Event Calendar 2.0//EN
METHOD:PUBLISH
X-PUBLISHED-TTL:P3D
REFRESH-INTERVAL:P3D
CALSCALE:GREGORIAN
BEGIN:VEVENT
DTSTART:20181201T234500Z
DTEND:20181202T004500Z
X-MICROSOFT-CDO-ALLDAYEVENT:FALSE
SUMMARY:Ridgely Old Fashioned Christmas and Open House
DESCRIPTION:Lion's Club Parade begins at Martin Sutton Park\, and ends at the resored railroad station\, where you are invited in for light refreshments and a visit with Santa. Bring your camera for photos with Santa.
X-ALT-DESC;FMTTYPE=text/html:Lion&#39\;s Club Parade begins at Martin Sutton Park\, and ends at the resored railroad station\, where you are invited in for light refreshments and a visit with Santa. Bring your camera for photos with Santa.
LOCATION:Central Ave\, Downtown Ridgely
UID:e.1366.2049
SEQUENCE:3
DTSTAMP:20260424T153410Z
URL:https://www.carolinechamber.org/events/details/ridgely-old-fashioned-christmas-and-open-house-2049
END:VEVENT

END:VCALENDAR
